BEGIN:VCALENDAR
VERSION:2.0
PRODID:-//www.dsala.org//NONSGML kigkonsult.se iCalcreator 2.30.10//
CALSCALE:GREGORIAN
METHOD:PUBLISH
UID:819ec59b-0a86-4673-ab8c-69d43e50ac78
X-WR-CALDESC:Caregiver Support Group\nFor family caregivers of individuals 
 with Down syndrome and Alzheimer's disease\n\nMeetings are every first and
  third Wednesday of each month\n\n
X-WR-RELCALID:d0b63b3bd9ef44c27237c377b48a45a0
X-WR-TIMEZONE:America/Los_Angeles
BEGIN:VTIMEZONE
TZID:America/Los_Angeles
BEGIN:STANDARD
TZNAME:PST
DTSTART:20241103T020000
TZOFFSETFROM:-0700
TZOFFSETTO:-0800
RDATE:20251102T020000
RDATE:20261101T020000
END:STANDARD
BEGIN:DAYLIGHT
TZNAME:PDT
DTSTART:20250309T020000
TZOFFSETFROM:-0800
TZOFFSETTO:-0700
RDATE:20260308T020000
END:DAYLIGHT
END:VTIMEZONE
BEGIN:VEVENT
UID:07d6fc7d-3ce9-4dfc-b3fc-ab408eb0ba73
DTSTAMP:20260420T023823Z
DESCRIPTION:Caregiver Support Group\nFor family caregivers of individuals w
 ith Down syndrome and Alzheimer's disease\n\nMeetings are every first and 
 third Wednesday of each month\n\n
DTSTART;TZID=America/Los_Angeles:20250618T160000
DTEND;TZID=America/Los_Angeles:20250618T170000
LOCATION:Via Zoom
SUMMARY:Caregiver Support Group
END:VEVENT
END:VCALENDAR
