BEGIN:VCALENDAR
VERSION:2.0
PRODID:-//www.dsala.org//NONSGML kigkonsult.se iCalcreator 2.30.10//
CALSCALE:GREGORIAN
METHOD:PUBLISH
UID:ca704883-8169-4938-ae48-f9cf12a7cd47
X-WR-CALDESC:<b>Jensen-Schmidt Tennis Academy for Down Syndrome is returnin
 g this June! </b>\n\nThis year's camp will be June 16-18\, starting at 9 a
 m (arrive by 8:30 am on your first day). \nLunch will be served at 11:30 a
 m\, with entertainment at 12. Pick-up will be at 12:30 pm. \n\nThe camp wi
 ll be at the Burbank Tennis Center at McCambridge Park. See below for the 
 registration link. Once you have registered with the Google form\, you wil
 l receive the medical forms\, which must be returned prior to the start of
  camp. \n\n<b>EVERYONE MUST COMPLETE THE REGISTRATION FORM and MEDICAL FOR
 MS </b>\n\nAll children and young adults with Down syndrome and similar sp
 ecial needs are welcome. The Academy focuses on physical training\, tennis
  instruction\, and fun!!!
X-WR-RELCALID:a6b5c8f08b45c0a621d21f5ab383d7b8
X-WR-TIMEZONE:America/Los_Angeles
BEGIN:VTIMEZONE
TZID:America/Los_Angeles
BEGIN:STANDARD
TZNAME:PST
DTSTART:20241103T020000
TZOFFSETFROM:-0700
TZOFFSETTO:-0800
RDATE:20251102T020000
RDATE:20261101T020000
END:STANDARD
BEGIN:DAYLIGHT
TZNAME:PDT
DTSTART:20250309T020000
TZOFFSETFROM:-0800
TZOFFSETTO:-0700
RDATE:20260308T020000
END:DAYLIGHT
END:VTIMEZONE
BEGIN:VEVENT
UID:ac520a3d-b454-420a-80be-6ec96c39413c
DTSTAMP:20260420T030935Z
DESCRIPTION:<b>Jensen-Schmidt Tennis Academy for Down Syndrome is returning
  this June! </b>\n\nThis year's camp will be June 16-18\, starting at 9 am
  (arrive by 8:30 am on your first day). \nLunch will be served at 11:30 am
 \, with entertainment at 12. Pick-up will be at 12:30 pm. \n\nThe camp wil
 l be at the Burbank Tennis Center at McCambridge Park. See below for the r
 egistration link. Once you have registered with the Google form\, you will
  receive the medical forms\, which must be returned prior to the start of 
 camp. \n\n<b>EVERYONE MUST COMPLETE THE REGISTRATION FORM and MEDICAL FORM
 S </b>\n\nAll children and young adults with Down syndrome and similar spe
 cial needs are welcome. The Academy focuses on physical training\, tennis 
 instruction\, and fun!!!
DTSTART;TZID=America/Los_Angeles:20250616T090000
DTEND;TZID=America/Los_Angeles:20250618T123000
LOCATION:Burbank Tennis Center in McCambridge Park - 249 Amherst Drive\, Bu
 rbank 91504
SUMMARY:Jensen-Schmidt/GreeneLight Tennis Academy
END:VEVENT
END:VCALENDAR
