BEGIN:VCALENDAR
VERSION:2.0
PRODID:-//www.dsala.org//NONSGML kigkonsult.se iCalcreator 2.30.10//
CALSCALE:GREGORIAN
METHOD:PUBLISH
UID:ef124dc8-3a3b-4e42-9987-937db8be12fa
X-WR-CALDESC:<center><b>Our Own Family Camp</b>\nThe annual Our Own Family 
 Camp at YMCA Camp Oakes near Big Bear over Memorial Day weekend is exclusi
 vely designed for families of individuals with Down syndrome. This is a wo
 nderful way to have an inexpensive\, memory-making vacation with our famil
 ies in a supportive\, non-judgmental environment. </center>\n\nCampers par
 ticipate in:\n•	Canoes\n•	Swimming\n•	Campfire\n•	Hiking\n•	Arts & Crafts\n•	Rif
 lery\n•	Archery\n•	Ropes\n•	Rock Wall Climbing\n•	Volleyball	\n\nWe are SO exci
 ted to announce that registration is open for Our Own Family Camp over Mem
 orial Day weekend 2025!\n\nIt's going to be a whole lot of fun\, and we ca
 nnot wait for you to join us. The pricing structure has changed\, and pric
 es will be as follows:\n\nAges 0-4: Free\nAges 5-17: $120\nAges 18+: $155
 \nRemember\, your family member with DS is FREE!
X-WR-RELCALID:523daa0fecadb914a8ca1b3ca3315644
X-WR-TIMEZONE:America/Los_Angeles
BEGIN:VTIMEZONE
TZID:America/Los_Angeles
BEGIN:STANDARD
TZNAME:PST
DTSTART:20241103T020000
TZOFFSETFROM:-0700
TZOFFSETTO:-0800
RDATE:20251102T020000
RDATE:20261101T020000
END:STANDARD
BEGIN:DAYLIGHT
TZNAME:PDT
DTSTART:20250309T020000
TZOFFSETFROM:-0800
TZOFFSETTO:-0700
RDATE:20260308T020000
END:DAYLIGHT
END:VTIMEZONE
BEGIN:VEVENT
UID:85eb9adf-9548-4c69-aa12-b8f25f49ef9d
DTSTAMP:20260420T043905Z
DESCRIPTION:<center><b>Our Own Family Camp</b>\nThe annual Our Own Family C
 amp at YMCA Camp Oakes near Big Bear over Memorial Day weekend is exclusiv
 ely designed for families of individuals with Down syndrome. This is a won
 derful way to have an inexpensive\, memory-making vacation with our famili
 es in a supportive\, non-judgmental environment. </center>\n\nCampers part
 icipate in:\n•	Canoes\n•	Swimming\n•	Campfire\n•	Hiking\n•	Arts & Crafts\n•	Rifl
 ery\n•	Archery\n•	Ropes\n•	Rock Wall Climbing\n•	Volleyball	\n\nWe are SO excit
 ed to announce that registration is open for Our Own Family Camp over Memo
 rial Day weekend 2025!\n\nIt's going to be a whole lot of fun\, and we can
 not wait for you to join us. The pricing structure has changed\, and price
 s will be as follows:\n\nAges 0-4: Free\nAges 5-17: $120\nAges 18+: $155\n
 Remember\, your family member with DS is FREE!
DTSTART;TZID=America/Los_Angeles:20250523T150000
DTEND;TZID=America/Los_Angeles:20250526T100000
LOCATION:Big Bear
SUMMARY:Our Own Family Camp
END:VEVENT
END:VCALENDAR
