BEGIN:VCALENDAR
VERSION:2.0
PRODID:-//www.dsala.org//NONSGML kigkonsult.se iCalcreator 2.30.10//
CALSCALE:GREGORIAN
METHOD:PUBLISH
UID:f3a1bf3b-6eef-4725-a192-2a1afecb3da2
X-WR-CALDESC:<b>Zoom Saturday Seminar\nDate: Saturday\, May 17\, 2025\nTime
 : 10 AM - 11:00 AM</b>\n\n<b>ARC and its Programs</b>\nActivities\, Recrea
 tion\, and Care (ARC) has been engaging over the last few years to build d
 iverse programs that are welcoming and beneficial to adults with IDD betwe
 en <b> the ages of 22 through the golden years</b>. In addition\, ARC has 
 developed a vision for a “continuum of care” with <b>a range of housing op
 tions.</b> Threaded through all our programs includes our emphasis on <b>p
 roviding dementia capable care</b>\, supported by partnerships with NTG an
 d Onegeneration. This includes a rethinking of programs\, organizational s
 tructure\, and advocacy partners within the regional centers.\n\n<b>Presen
 ter:</b>\n<b>Jennifer Pippard</b> is the Executive Director of Activities\
 , Recreation\, and Care (ARC) in North Hollywood\, which supports adults w
 ith intellectual disabilities and is launching a home for those affected b
 y dementia. She is a long-time advocate and systems change champion for fa
 milies and communities. She worked at First5LA for 17 years as Director of
  Strategic Partnerships and held leadership positions with the City of LA'
 s Commission for Children\, Youth and Their Families. Jennifer began her c
 areer as a Peace Corps Volunteer in Ecuador and holds an M.S.W. from USC. 
 She is also a board member of Grand Performances and USC’s CSWA.
X-WR-RELCALID:d8ab9836c26567facc0001d13b7221cd
X-WR-TIMEZONE:America/Los_Angeles
BEGIN:VTIMEZONE
TZID:America/Los_Angeles
BEGIN:STANDARD
TZNAME:PST
DTSTART:20241103T020000
TZOFFSETFROM:-0700
TZOFFSETTO:-0800
RDATE:20251102T020000
RDATE:20261101T020000
END:STANDARD
BEGIN:DAYLIGHT
TZNAME:PDT
DTSTART:20250309T020000
TZOFFSETFROM:-0800
TZOFFSETTO:-0700
RDATE:20260308T020000
END:DAYLIGHT
END:VTIMEZONE
BEGIN:VEVENT
UID:1403fe49-2a22-41eb-bf65-4d3f362f222f
DTSTAMP:20260420T043403Z
DESCRIPTION:<b>Zoom Saturday Seminar\nDate: Saturday\, May 17\, 2025\nTime:
  10 AM - 11:00 AM</b>\n\n<b>ARC and its Programs</b>\nActivities\, Recreat
 ion\, and Care (ARC) has been engaging over the last few years to build di
 verse programs that are welcoming and beneficial to adults with IDD betwee
 n <b> the ages of 22 through the golden years</b>. In addition\, ARC has d
 eveloped a vision for a “continuum of care” with <b>a range of housing opt
 ions.</b> Threaded through all our programs includes our emphasis on <b>pr
 oviding dementia capable care</b>\, supported by partnerships with NTG and
  Onegeneration. This includes a rethinking of programs\, organizational st
 ructure\, and advocacy partners within the regional centers.\n\n<b>Present
 er:</b>\n<b>Jennifer Pippard</b> is the Executive Director of Activities\,
  Recreation\, and Care (ARC) in North Hollywood\, which supports adults wi
 th intellectual disabilities and is launching a home for those affected by
  dementia. She is a long-time advocate and systems change champion for fam
 ilies and communities. She worked at First5LA for 17 years as Director of 
 Strategic Partnerships and held leadership positions with the City of LA's
  Commission for Children\, Youth and Their Families. Jennifer began her ca
 reer as a Peace Corps Volunteer in Ecuador and holds an M.S.W. from USC. S
 he is also a board member of Grand Performances and USC’s CSWA.
DTSTART;TZID=America/Los_Angeles:20250517T100000
DTEND;TZID=America/Los_Angeles:20250517T110000
LOCATION:Zoom
SUMMARY:ARC and its Programs
END:VEVENT
END:VCALENDAR
