BEGIN:VCALENDAR
VERSION:2.0
PRODID:-//www.dsala.org//NONSGML kigkonsult.se iCalcreator 2.30.10//
CALSCALE:GREGORIAN
METHOD:PUBLISH
UID:4601b993-acb1-4e4d-8e6c-30cc93905702
X-WR-CALDESC:<b>Zoom Saturday Seminar\nDate: Saturday\, April 26\, 2025\nTi
 me: 10 AM - 11:00 AM</b>\n\n<b>Everything No One Tells You About Parenting
  a Disabled Child</b>\nAuthor\, advocate\, and parent Kelley Coleman gives
  families practical tools for effectively advocating for our children – in
  a way that is understandable\, actionable\, and even fun. Tailored to mee
 t the group’s needs\, we’ll dig into topics such as navigating social serv
 ice\, school\, insurance\, and medical systems\; effective advocacy that c
 enters your child\; making parent caregiving sustainable\; and the importa
 nce of sharing our stories.  \n\n<b>Presenter:</b>\n<b>Kelley Coleman</b> 
 is an author and advocate who has spent over a decade navigating public be
 nefits\, insurance\, education\, and more for her (rather amazing) child w
 ith multiple disabilities.  She is the author of Everything No One Tells Y
 ou About Parenting a Disabled Child\, and is on a mission to make life as 
 a parent caregiver sustainable for us all.
X-WR-RELCALID:c59a91e6e88156a739220f3ddc79830e
X-WR-TIMEZONE:America/Los_Angeles
BEGIN:VTIMEZONE
TZID:America/Los_Angeles
BEGIN:STANDARD
TZNAME:PST
DTSTART:20241103T020000
TZOFFSETFROM:-0700
TZOFFSETTO:-0800
RDATE:20251102T020000
END:STANDARD
BEGIN:DAYLIGHT
TZNAME:PDT
DTSTART:20250309T020000
TZOFFSETFROM:-0800
TZOFFSETTO:-0700
RDATE:20260308T020000
END:DAYLIGHT
END:VTIMEZONE
BEGIN:VEVENT
UID:419a2045-6b4e-45a2-aab5-4b25f6424ab8
DTSTAMP:20260420T063818Z
DESCRIPTION:<b>Zoom Saturday Seminar\nDate: Saturday\, April 26\, 2025\nTim
 e: 10 AM - 11:00 AM</b>\n\n<b>Everything No One Tells You About Parenting 
 a Disabled Child</b>\nAuthor\, advocate\, and parent Kelley Coleman gives 
 families practical tools for effectively advocating for our children – in 
 a way that is understandable\, actionable\, and even fun. Tailored to meet
  the group’s needs\, we’ll dig into topics such as navigating social servi
 ce\, school\, insurance\, and medical systems\; effective advocacy that ce
 nters your child\; making parent caregiving sustainable\; and the importan
 ce of sharing our stories.  \n\n<b>Presenter:</b>\n<b>Kelley Coleman</b> i
 s an author and advocate who has spent over a decade navigating public ben
 efits\, insurance\, education\, and more for her (rather amazing) child wi
 th multiple disabilities.  She is the author of Everything No One Tells Yo
 u About Parenting a Disabled Child\, and is on a mission to make life as a
  parent caregiver sustainable for us all.
DTSTART;TZID=America/Los_Angeles:20250426T100000
DTEND;TZID=America/Los_Angeles:20250426T110000
LOCATION:Zoom
SUMMARY:Everything No One Tells You About Parenting a Child with Disabiliti
 es
END:VEVENT
END:VCALENDAR
