BEGIN:VCALENDAR
VERSION:2.0
PRODID:-//www.dsala.org//NONSGML kigkonsult.se iCalcreator 2.30.10//
CALSCALE:GREGORIAN
METHOD:PUBLISH
UID:5b64f786-32ee-4b18-bb35-a0d58614ab6a
X-WR-CALDESC:Caregiver Support Group\nFor family caregivers of individuals 
 with Down syndrome and Alzheimer's disease\n\nMeetings are every first and
  third Wednesday of each month\n\n
X-WR-RELCALID:29196daee87e084605937f81b24e02ea
X-WR-TIMEZONE:America/Los_Angeles
BEGIN:VTIMEZONE
TZID:America/Los_Angeles
BEGIN:STANDARD
TZNAME:PST
DTSTART:20241103T020000
TZOFFSETFROM:-0700
TZOFFSETTO:-0800
RDATE:20251102T020000
END:STANDARD
BEGIN:DAYLIGHT
TZNAME:PDT
DTSTART:20250309T020000
TZOFFSETFROM:-0800
TZOFFSETTO:-0700
RDATE:20260308T020000
END:DAYLIGHT
END:VTIMEZONE
BEGIN:VEVENT
UID:8a5ee10b-7419-42c9-853a-0d262d652a7c
DTSTAMP:20260420T062453Z
DESCRIPTION:Caregiver Support Group\nFor family caregivers of individuals w
 ith Down syndrome and Alzheimer's disease\n\nMeetings are every first and 
 third Wednesday of each month\n\n
DTSTART;TZID=America/Los_Angeles:20250402T160000
DTEND;TZID=America/Los_Angeles:20250402T170000
LOCATION:Via Zoom
SUMMARY:Caregiver Support Group
END:VEVENT
END:VCALENDAR
