BEGIN:VCALENDAR
VERSION:2.0
PRODID:-//www.dsala.org//NONSGML kigkonsult.se iCalcreator 2.30.10//
CALSCALE:GREGORIAN
METHOD:PUBLISH
UID:e0cb2ff5-2707-4260-bc23-fa69d0c34054
X-WR-CALDESC:<b>All-Inclusive Zumba</b>\nHigh energy\, calorie-burning danc
 e party modified for individuals with special needs.\n\nJoin the fun!
X-WR-RELCALID:354bbb3b1ac1e32d1e94f781bbeaad38
X-WR-TIMEZONE:America/Los_Angeles
BEGIN:VTIMEZONE
TZID:America/Los_Angeles
BEGIN:STANDARD
TZNAME:PST
DTSTART:20241103T020000
TZOFFSETFROM:-0700
TZOFFSETTO:-0800
RDATE:20251102T020000
END:STANDARD
BEGIN:DAYLIGHT
TZNAME:PDT
DTSTART:20250309T020000
TZOFFSETFROM:-0800
TZOFFSETTO:-0700
RDATE:20260308T020000
END:DAYLIGHT
END:VTIMEZONE
BEGIN:VEVENT
UID:590570ec-ac66-4e73-b51e-7e6a621c5928
DTSTAMP:20260420T082408Z
DESCRIPTION:<b>All-Inclusive Zumba</b>\nHigh energy\, calorie-burning dance
  party modified for individuals with special needs.\n\nJoin the fun!
DTSTART;TZID=America/Los_Angeles:20250324T180000
DTEND;TZID=America/Los_Angeles:20250324T190000
LOCATION:San Fernando Park 208 Park Avenue  San Fernando\, CA 91340
SUMMARY:All-Inclusive Zumba
END:VEVENT
END:VCALENDAR
