BEGIN:VCALENDAR
VERSION:2.0
PRODID:-//www.dsala.org//NONSGML kigkonsult.se iCalcreator 2.30.10//
CALSCALE:GREGORIAN
METHOD:PUBLISH
UID:460f365e-e3a8-40e2-92eb-4e6db5fb9fb3
X-WR-CALDESC:<b>EVENT IS NOW SOLD OUT!</b>\nWorld Down Syndrome Day (WDSD) 
 is an annual global awareness day on March 21\, and we are so excited to c
 elebrate this special day together\, so put on your dancing shoes and get 
 ready to BOOGIE!\n\nThis event is for all ages. \n\nWe will provide a ligh
 t meal\, music\, and prizes!\n\nThe dance is free\, but registration is re
 quired.  \n4 PM - 6 PM\nEach participant must:\n- RSVP \n- No Drop-Offs
X-WR-RELCALID:9bd73461656b5cd3ff27424976573a38
X-WR-TIMEZONE:America/Los_Angeles
BEGIN:VTIMEZONE
TZID:America/Los_Angeles
BEGIN:STANDARD
TZNAME:PST
DTSTART:20241103T020000
TZOFFSETFROM:-0700
TZOFFSETTO:-0800
RDATE:20251102T020000
END:STANDARD
BEGIN:DAYLIGHT
TZNAME:PDT
DTSTART:20250309T020000
TZOFFSETFROM:-0800
TZOFFSETTO:-0700
RDATE:20260308T020000
END:DAYLIGHT
END:VTIMEZONE
BEGIN:VEVENT
UID:591833d4-3274-4cee-b209-3617122b2685
DTSTAMP:20260420T081814Z
DESCRIPTION:<b>EVENT IS NOW SOLD OUT!</b>\nWorld Down Syndrome Day (WDSD) i
 s an annual global awareness day on March 21\, and we are so excited to ce
 lebrate this special day together\, so put on your dancing shoes and get r
 eady to BOOGIE!\n\nThis event is for all ages. \n\nWe will provide a light
  meal\, music\, and prizes!\n\nThe dance is free\, but registration is req
 uired.  \n4 PM - 6 PM\nEach participant must:\n- RSVP \n- No Drop-Offs
DTSTART;TZID=America/Los_Angeles:20250321T030000
DTEND;TZID=America/Los_Angeles:20250321T030001
LOCATION:Granada Hills Community Church 11263 Balboa Blvd\, Granada Hills\,
  CA 91344
SUMMARY:World Down Syndrome Day Celebration
END:VEVENT
END:VCALENDAR
