BEGIN:VCALENDAR
VERSION:2.0
PRODID:-//www.dsala.org//NONSGML kigkonsult.se iCalcreator 2.30.10//
CALSCALE:GREGORIAN
METHOD:PUBLISH
UID:c9c4375b-e1ba-46a5-8c56-98990ede7b98
X-WR-CALDESC:<b>Zoom Saturday Seminar\n<b>This seminar has been cancelled!!
 </b>\n\nDate: Saturday\, March 15\, 2025\nTime: 10 AM - 11:00 AM</b>\n\n<b
 >Regression in Down Syndrome</b>\n-  Review common neurological complicati
 ons in Down syndrome\n-  Review the most common stroke-related conditions 
 that persons with Down syndrome exhibit with Moyamoya Disease and Cerebral
  Amyloid Angiopathy (CAA).\n-  Review the common signs and symptoms of Moy
 amoya disease and CAA\, how to get diagnosed and what treatments can be us
 ed.\n-  Review a potential\, non-invasive method to predict stroke before 
 it happens\n\n<b>Presenter:</b>\n<b>Dr. Jonathan D. Santoro\, MD</b> serve
 s as the Director of the Neuroimmunology and Demyelinating Disorders Progr
 am at Children's Hospital Los Angeles. He is also an Assistant Professor o
 f Neurology at the Keck School of Medicine at the University of Southern C
 alifornia. Dr. Santoro completed his undergraduate\, master's\, and medica
 l degrees at Tulane University. He subsequently completed pediatric and ch
 ild neurology residencies at Stanford University School of Medicine with s
 ub-specialty training in neuroimmunology and pediatric multiple sclerosis 
 at Harvard Medical School. Dr. Santoro has clinical research expertise in 
 inflammation related to cerebrovascular disease and neurocognitive disorde
 rs such as Down syndrome regression syndrome.
X-WR-RELCALID:4d64b91efa09b5c6f99e0114dedd2942
X-WR-TIMEZONE:America/Los_Angeles
BEGIN:VTIMEZONE
TZID:America/Los_Angeles
BEGIN:STANDARD
TZNAME:PST
DTSTART:20241103T020000
TZOFFSETFROM:-0700
TZOFFSETTO:-0800
RDATE:20251102T020000
END:STANDARD
BEGIN:DAYLIGHT
TZNAME:PDT
DTSTART:20250309T020000
TZOFFSETFROM:-0800
TZOFFSETTO:-0700
RDATE:20260308T020000
END:DAYLIGHT
END:VTIMEZONE
BEGIN:VEVENT
UID:00008283-e5ba-4a90-ad46-ff775890f3ac
DTSTAMP:20260420T081815Z
DESCRIPTION:<b>Zoom Saturday Seminar\n<b>This seminar has been cancelled!!<
 /b>\n\nDate: Saturday\, March 15\, 2025\nTime: 10 AM - 11:00 AM</b>\n\n<b>
 Regression in Down Syndrome</b>\n-  Review common neurological complicatio
 ns in Down syndrome\n-  Review the most common stroke-related conditions t
 hat persons with Down syndrome exhibit with Moyamoya Disease and Cerebral 
 Amyloid Angiopathy (CAA).\n-  Review the common signs and symptoms of Moya
 moya disease and CAA\, how to get diagnosed and what treatments can be use
 d.\n-  Review a potential\, non-invasive method to predict stroke before i
 t happens\n\n<b>Presenter:</b>\n<b>Dr. Jonathan D. Santoro\, MD</b> serves
  as the Director of the Neuroimmunology and Demyelinating Disorders Progra
 m at Children's Hospital Los Angeles. He is also an Assistant Professor of
  Neurology at the Keck School of Medicine at the University of Southern Ca
 lifornia. Dr. Santoro completed his undergraduate\, master's\, and medical
  degrees at Tulane University. He subsequently completed pediatric and chi
 ld neurology residencies at Stanford University School of Medicine with su
 b-specialty training in neuroimmunology and pediatric multiple sclerosis a
 t Harvard Medical School. Dr. Santoro has clinical research expertise in i
 nflammation related to cerebrovascular disease and neurocognitive disorder
 s such as Down syndrome regression syndrome.
DTSTART;TZID=America/Los_Angeles:20250315T100000
DTEND;TZID=America/Los_Angeles:20250315T110000
LOCATION:This event has been canceled due to unforeseen circumstances
SUMMARY:Regression in Down Syndrome
END:VEVENT
END:VCALENDAR
