BEGIN:VCALENDAR
VERSION:2.0
PRODID:-//www.dsala.org//NONSGML kigkonsult.se iCalcreator 2.30.10//
CALSCALE:GREGORIAN
METHOD:PUBLISH
UID:c75e7460-397c-46bb-b867-c5048cb7a0b5
X-WR-CALDESC:<center>\n<p><span style='color:#3498db\;'><span style='font-s
 ize:24px\;'><strong>2025 DSALA&#39\;S MOMS NEED MOM&#39\;S CRUISE</strong>
 </span></span><br />\n</p><p><span style='color:#3498db\;'><span style='fo
 nt-size:36px\;'><strong><u>DEPARTURE TIME UPDATE</u></strong></span></span
 ><br />\n<strong>Aboard the Carnival Radiance<br />\nLong Beach Cruise Ter
 minal 231 Windsor Way Long Beach\, CA 90802</strong><br />\n<strong>Cruise
  Dates: February 27th-March 3rd\, 2025</strong><br />\n\n<u>We have revise
 d departure time for your cruise and now plan to sail from Long Beach at 4
 :00 PM (instead of 5:00 PM) pacific time.</u>\n\nThis is a <strong>4 DAY <
 /strong>Cruise - instead of our usual 3 day cruise... and includes a day o
 n Catalina Island!</p>\n\n<p>We&#39\;re so excited <strong>TO BE BACK</str
 ong> and can&#39\;t wait to Connect and Re-Connect on this <strong>AMAZING
  </strong>Cruise for all Caregivers of our Special kiddos.</p>\n\n<p style
 ='text-align:left\;'><strong>Here&#39\;s How to Get on Board:</strong>\nWe
  are <strong>NOT </strong>working with a Travel Agent this year\, so...\nY
 ou <strong>MUST </strong>book <strong>DIRECTLY </strong>thru Carnival. (Ca
 rnival.com)\nFind our cruise ship/dates (CARNIVAL RADIANCE 27/Feb/2025 - 4
  days)\nCall Carnival Group Bookings at <strong>(800) 327 5782 ext. 70005<
 /strong> (M-F 9-8p EST)\nGive them our <strong>GROUP #K3RS81 </strong>so y
 ou'll be seated with our group for dinner AND be included in all our group
  FUN!\n\nPlease email Silvia at srsignups@gmail.com to be added to the ema
 il list so you'll get all the info about activities and meet ups once we g
 et closer to our sail date!\n\n</p><p>We are excited to cruise again with 
 you all!\n\n</p><p style='text-align:left\;'><b><i>For individuals who reg
 istered outside the group and were included after our initial deadline:\n
 \n<b></b></i></b></p><p style='text-align:left\;'><b>-  The charge for add
 ing extra participants to our SHARED COCKTAIL PARTY is $25 per person.\n</
 b></p><p style='text-align:left\;'>-  <b>For our COFFEE/DANISH Breakfast E
 vent\, the fee for additional guests is $6.50 per person.\n\n</b></p><p st
 yle='text-align:left\;'><b>Please make sure to settle these fees by Januar
 y 20th\, 2025.\n<strong></strong></b></p></center>
X-WR-RELCALID:ed072846fd9aa7356c3a0b08382628dd
X-WR-TIMEZONE:America/Los_Angeles
BEGIN:VTIMEZONE
TZID:America/Los_Angeles
BEGIN:STANDARD
TZNAME:PST
DTSTART:20241103T020000
TZOFFSETFROM:-0700
TZOFFSETTO:-0800
RDATE:20251102T020000
END:STANDARD
BEGIN:DAYLIGHT
TZNAME:PDT
DTSTART:20240310T020000
TZOFFSETFROM:-0800
TZOFFSETTO:-0700
RDATE:20250309T020000
RDATE:20260308T020000
END:DAYLIGHT
END:VTIMEZONE
BEGIN:VEVENT
UID:71892874-516c-457d-b9b5-3c6897378e34
DTSTAMP:20260420T100426Z
DESCRIPTION:<center>\n<p><span style='color:#3498db\;'><span style='font-si
 ze:24px\;'><strong>2025 DSALA&#39\;S MOMS NEED MOM&#39\;S CRUISE</strong><
 /span></span><br />\n</p><p><span style='color:#3498db\;'><span style='fon
 t-size:36px\;'><strong><u>DEPARTURE TIME UPDATE</u></strong></span></span>
 <br />\n<strong>Aboard the Carnival Radiance<br />\nLong Beach Cruise Term
 inal 231 Windsor Way Long Beach\, CA 90802</strong><br />\n<strong>Cruise 
 Dates: February 27th-March 3rd\, 2025</strong><br />\n\n<u>We have revised
  departure time for your cruise and now plan to sail from Long Beach at 4:
 00 PM (instead of 5:00 PM) pacific time.</u>\n\nThis is a <strong>4 DAY </
 strong>Cruise - instead of our usual 3 day cruise... and includes a day on
  Catalina Island!</p>\n\n<p>We&#39\;re so excited <strong>TO BE BACK</stro
 ng> and can&#39\;t wait to Connect and Re-Connect on this <strong>AMAZING 
 </strong>Cruise for all Caregivers of our Special kiddos.</p>\n\n<p style=
 'text-align:left\;'><strong>Here&#39\;s How to Get on Board:</strong>\nWe 
 are <strong>NOT </strong>working with a Travel Agent this year\, so...\nYo
 u <strong>MUST </strong>book <strong>DIRECTLY </strong>thru Carnival. (Car
 nival.com)\nFind our cruise ship/dates (CARNIVAL RADIANCE 27/Feb/2025 - 4 
 days)\nCall Carnival Group Bookings at <strong>(800) 327 5782 ext. 70005</
 strong> (M-F 9-8p EST)\nGive them our <strong>GROUP #K3RS81 </strong>so yo
 u'll be seated with our group for dinner AND be included in all our group 
 FUN!\n\nPlease email Silvia at srsignups@gmail.com to be added to the emai
 l list so you'll get all the info about activities and meet ups once we ge
 t closer to our sail date!\n\n</p><p>We are excited to cruise again with y
 ou all!\n\n</p><p style='text-align:left\;'><b><i>For individuals who regi
 stered outside the group and were included after our initial deadline:\n\n
 <b></b></i></b></p><p style='text-align:left\;'><b>-  The charge for addin
 g extra participants to our SHARED COCKTAIL PARTY is $25 per person.\n</b>
 </p><p style='text-align:left\;'>-  <b>For our COFFEE/DANISH Breakfast Eve
 nt\, the fee for additional guests is $6.50 per person.\n\n</b></p><p styl
 e='text-align:left\;'><b>Please make sure to settle these fees by January 
 20th\, 2025.\n<strong></strong></b></p></center>
DTSTART;TZID=America/Los_Angeles:20250227T030000
DTEND;TZID=America/Los_Angeles:20250303T030001
LOCATION:Long Beach Cruise Terminal\, Terminal 231 Windsor Way\, Long Beach
 \, CA 90802 US
SUMMARY:2025 DSALA Moms Need Moms Cruise
END:VEVENT
END:VCALENDAR
