BEGIN:VCALENDAR
VERSION:2.0
PRODID:-//www.dsala.org//NONSGML kigkonsult.se iCalcreator 2.30.10//
CALSCALE:GREGORIAN
METHOD:PUBLISH
UID:9430dc8b-5f9b-4029-9c24-1f03636b751d
X-WR-CALDESC:<b>Understanding OCRA and IHSS Programs\nDate: Saturday\, Febr
 uary 15\, 2025\nTime: 10 AM - 11:30 AM </b>\n\n<b>Understanding What is th
 e OCRA and IHSS Programs </b>\nThey will provide an overview of the Office
  of Clients' Rights Advocacy (OCRA) and the In-Home Supportive Services (I
 HSS) program\, the types of services offered\, suggestions on the types of
  information you should collect for the application\, how to submit your a
 pplication\, what to expect at the home visit\, the next steps\, and your 
 right to appeal if you disagree with a decision made. \n\n<b>Presenters:\n
 Wilmary Torres</b> is the Clients’ Rights Advocate and attorney who works 
 with North Los Angeles County Regional Center consumers and their families
  to advocate for the rights of people with developmental disabilities. Wil
 mary believes that OCRA’s services ensure that clients and their families 
 receive the necessary services and support.\n\n<b>Fatima Perez </b>is an A
 ssistant Clients' Rights Advocate who also works with consumers and their 
 families at the North Los Angeles County Regional Center\, helping consume
 rs with developmental disabilities and their families. She coordinates wor
 kshops\, provides support and resources\, and believes in the importance o
 f OCRA's work for client empowerment.
X-WR-RELCALID:5e87dd5b1575bde9796db5099cea300b
X-WR-TIMEZONE:America/Los_Angeles
BEGIN:VTIMEZONE
TZID:America/Los_Angeles
BEGIN:STANDARD
TZNAME:PST
DTSTART:20241103T020000
TZOFFSETFROM:-0700
TZOFFSETTO:-0800
RDATE:20251102T020000
END:STANDARD
BEGIN:DAYLIGHT
TZNAME:PDT
DTSTART:20240310T020000
TZOFFSETFROM:-0800
TZOFFSETTO:-0700
RDATE:20250309T020000
RDATE:20260308T020000
END:DAYLIGHT
END:VTIMEZONE
BEGIN:VEVENT
UID:d5aad023-8343-4f3f-b252-617b5bc5d9a0
DTSTAMP:20260420T094317Z
DESCRIPTION:<b>Understanding OCRA and IHSS Programs\nDate: Saturday\, Febru
 ary 15\, 2025\nTime: 10 AM - 11:30 AM </b>\n\n<b>Understanding What is the
  OCRA and IHSS Programs </b>\nThey will provide an overview of the Office 
 of Clients' Rights Advocacy (OCRA) and the In-Home Supportive Services (IH
 SS) program\, the types of services offered\, suggestions on the types of 
 information you should collect for the application\, how to submit your ap
 plication\, what to expect at the home visit\, the next steps\, and your r
 ight to appeal if you disagree with a decision made. \n\n<b>Presenters:\nW
 ilmary Torres</b> is the Clients’ Rights Advocate and attorney who works w
 ith North Los Angeles County Regional Center consumers and their families 
 to advocate for the rights of people with developmental disabilities. Wilm
 ary believes that OCRA’s services ensure that clients and their families r
 eceive the necessary services and support.\n\n<b>Fatima Perez </b>is an As
 sistant Clients' Rights Advocate who also works with consumers and their f
 amilies at the North Los Angeles County Regional Center\, helping consumer
 s with developmental disabilities and their families. She coordinates work
 shops\, provides support and resources\, and believes in the importance of
  OCRA's work for client empowerment.
DTSTART;TZID=America/Los_Angeles:20250215T100000
DTEND;TZID=America/Los_Angeles:20250215T113000
LOCATION:Zoom
SUMMARY:Understanding OCRA and IHSS Programs
END:VEVENT
END:VCALENDAR
