BEGIN:VCALENDAR
VERSION:2.0
PRODID:-//www.dsala.org//NONSGML kigkonsult.se iCalcreator 2.30.10//
CALSCALE:GREGORIAN
METHOD:PUBLISH
UID:8139ee04-7fc8-4788-92c4-82c0a24af69e
X-WR-CALDESC:Born to Act Players - Junior Class\n\nStudents will sing\, dan
 ce\, and act! \n\nThey will develop better speech\, communication skills\,
  and self confidence !\n\n\nCost is $15 per session. (Ages 5-17)	\n\n
X-WR-RELCALID:1923c23a1cef35ff7eed28e8bd72c850
X-WR-TIMEZONE:America/Los_Angeles
BEGIN:VTIMEZONE
TZID:America/Los_Angeles
BEGIN:STANDARD
TZNAME:PST
DTSTART:20241103T020000
TZOFFSETFROM:-0700
TZOFFSETTO:-0800
RDATE:20251102T020000
END:STANDARD
BEGIN:DAYLIGHT
TZNAME:PDT
DTSTART:20240310T020000
TZOFFSETFROM:-0800
TZOFFSETTO:-0700
RDATE:20250309T020000
RDATE:20260308T020000
END:DAYLIGHT
END:VTIMEZONE
BEGIN:VEVENT
UID:65cd8eba-8fb1-44f8-8d6d-e2a9a32b26b1
DTSTAMP:20260420T113729Z
DESCRIPTION:Born to Act Players - Junior Class\n\nStudents will sing\, danc
 e\, and act! \n\nThey will develop better speech\, communication skills\, 
 and self confidence !\n\n\nCost is $15 per session. (Ages 5-17)	\n\n
DTSTART;TZID=America/Los_Angeles:20250123T160000
DTEND;TZID=America/Los_Angeles:20250123T173000
LOCATION:First Christian Church of North Hollywood  4390 Colfax Ave\, Studi
 o City\, CA 91604
SUMMARY:Acting Classes BTAP Jr.
END:VEVENT
END:VCALENDAR
