BEGIN:VCALENDAR
VERSION:2.0
PRODID:-//www.dsala.org//NONSGML kigkonsult.se iCalcreator 2.30.10//
CALSCALE:GREGORIAN
METHOD:PUBLISH
UID:55afe984-b4ae-4973-9fa6-c590e1ddb6a8
X-WR-CALDESC:<b>SUPPORTING INVOLVED BROTHERS AND SISTERS</b>\n\nSIBS is a g
 roup that aims to support and give resources to adult siblings of people w
 ith Down syndrome. We hope to create a safe space for siblings to share th
 eir experiences\, concerns\, and feelings regarding their role as siblings
  of an individual with Down syndrome.\n\nThis session was canceled due to 
 the LA Fires.\n\n<b>Meetings occur on the second Sunday of every month.</b
 >\n\nTo register and receive zoom info click <a href='https://www.dsala.or
 g/what-we-do/family/sibling-group.html'><b>HERE</b></a>\n\nFor inquiries c
 ontact <b>dsalasibs@gmail.com</b>
X-WR-RELCALID:1f71e5a9a24fedab84e23004135e8d55
X-WR-TIMEZONE:America/Los_Angeles
BEGIN:VTIMEZONE
TZID:America/Los_Angeles
BEGIN:STANDARD
TZNAME:PST
DTSTART:20241103T020000
TZOFFSETFROM:-0700
TZOFFSETTO:-0800
RDATE:20251102T020000
END:STANDARD
BEGIN:DAYLIGHT
TZNAME:PDT
DTSTART:20240310T020000
TZOFFSETFROM:-0800
TZOFFSETTO:-0700
RDATE:20250309T020000
RDATE:20260308T020000
END:DAYLIGHT
END:VTIMEZONE
BEGIN:VEVENT
UID:fe781865-d194-4f28-ae52-a93989bc1189
DTSTAMP:20260420T114606Z
DESCRIPTION:<b>SUPPORTING INVOLVED BROTHERS AND SISTERS</b>\n\nSIBS is a gr
 oup that aims to support and give resources to adult siblings of people wi
 th Down syndrome. We hope to create a safe space for siblings to share the
 ir experiences\, concerns\, and feelings regarding their role as siblings 
 of an individual with Down syndrome.\n\nThis session was canceled due to t
 he LA Fires.\n\n<b>Meetings occur on the second Sunday of every month.</b>
 \n\nTo register and receive zoom info click <a href='https://www.dsala.org
 /what-we-do/family/sibling-group.html'><b>HERE</b></a>\n\nFor inquiries co
 ntact <b>dsalasibs@gmail.com</b>
DTSTART;TZID=America/Los_Angeles:20250112T100000
DTEND;TZID=America/Los_Angeles:20250112T110000
LOCATION:Via Zoom
SUMMARY:Adult Siblings of Individuals with Down Syndrome Support Group (S.I
 .B.S.)
END:VEVENT
END:VCALENDAR
