BEGIN:VCALENDAR
VERSION:2.0
PRODID:-//www.dsala.org//NONSGML kigkonsult.se iCalcreator 2.30.10//
CALSCALE:GREGORIAN
METHOD:PUBLISH
UID:8abcd654-3851-4d0d-a6dd-a62722c31e65
X-WR-CALDESC:Born to Act Players - Junior Class (New Location)\n\nStudents 
 will sing\, dance\, and act! They will develop better speech\, communicati
 on skills\, and self confidence.\n\n\n\nFor more information send an email
  to Mary Rings at BTAP@earthlink.net or call 818-776-9670. Cost is $15 per
  session.  For ages 5-17.	\n
X-WR-RELCALID:7a33446b328a0f30dfd2c1531cc7d72e
X-WR-TIMEZONE:America/Los_Angeles
BEGIN:VTIMEZONE
TZID:America/Los_Angeles
BEGIN:STANDARD
TZNAME:PST
DTSTART:20201101T020000
TZOFFSETFROM:-0700
TZOFFSETTO:-0800
RDATE:20211107T020000
END:STANDARD
BEGIN:DAYLIGHT
TZNAME:PDT
DTSTART:20200308T020000
TZOFFSETFROM:-0800
TZOFFSETTO:-0700
RDATE:20210314T020000
RDATE:20220313T020000
END:DAYLIGHT
END:VTIMEZONE
BEGIN:VEVENT
UID:3c3de7c9-ade3-4839-b4fa-e25920bc8d73
DTSTAMP:20260420T200924Z
DESCRIPTION:Born to Act Players - Junior Class (New Location)\n\nStudents w
 ill sing\, dance\, and act! They will develop better speech\, communicatio
 n skills\, and self confidence.\n\n\n\nFor more information send an email 
 to Mary Rings at BTAP@earthlink.net or call 818-776-9670. Cost is $15 per 
 session.  For ages 5-17.	\n
DTSTART;TZID=America/Los_Angeles:20210217T160000
DTEND;TZID=America/Los_Angeles:20210217T173000
LOCATION:El Redentor Church: 14445 Terra Bella St. Panorama City\, CA 91402
SUMMARY:Acting Classes BTAP Jr.
END:VEVENT
END:VCALENDAR
