BEGIN:VCALENDAR
VERSION:2.0
PRODID:-//www.dsala.org//NONSGML kigkonsult.se iCalcreator 2.30.10//
CALSCALE:GREGORIAN
METHOD:PUBLISH
UID:c62719ba-e5df-49b7-a631-85a31016389c
X-WR-CALDESC:<b>Teen Social Club</b>\n\nJoin us the third Saturday of every
  month for an opportunity to interact with other pre-teens/teens\, form fr
 iendships\, and partake in social outings in the community. These events a
 re for individuals ages 11-17. Participants must be accompanied by an adul
 t and meet the group at destination. \n\nSpring Fling - Weddington Park\n1
 0844 Acama St\, North Hollywood\, CA 91602\n\nDSALA wishes to provide a pl
 easant experience for all participants. Therefore\, a parent or guardian m
 ust be present for the duration of each activity.\n
X-WR-RELCALID:28ef8b1bebb16140c227c647d003959f
X-WR-TIMEZONE:America/Los_Angeles
BEGIN:VTIMEZONE
TZID:America/Los_Angeles
BEGIN:STANDARD
TZNAME:PST
DTSTART:20181104T020000
TZOFFSETFROM:-0700
TZOFFSETTO:-0800
RDATE:20191103T020000
END:STANDARD
BEGIN:DAYLIGHT
TZNAME:PDT
DTSTART:20190310T020000
TZOFFSETFROM:-0800
TZOFFSETTO:-0700
RDATE:20200308T020000
END:DAYLIGHT
END:VTIMEZONE
BEGIN:VEVENT
UID:a084765b-8efc-47fb-be3c-b08780e00aa2
DTSTAMP:20260419T132911Z
DESCRIPTION:<b>Teen Social Club</b>\n\nJoin us the third Saturday of every 
 month for an opportunity to interact with other pre-teens/teens\, form fri
 endships\, and partake in social outings in the community. These events ar
 e for individuals ages 11-17. Participants must be accompanied by an adult
  and meet the group at destination. \n\nSpring Fling - Weddington Park\n10
 844 Acama St\, North Hollywood\, CA 91602\n\nDSALA wishes to provide a ple
 asant experience for all participants. Therefore\, a parent or guardian mu
 st be present for the duration of each activity.\n
DTSTART;TZID=America/Los_Angeles:20190420T150000
DTEND;TZID=America/Los_Angeles:20190420T170000
LOCATION:Weddington Park 10844 Acama St\, North Hollywood\, CA 91602
SUMMARY:Teen Social Club
END:VEVENT
END:VCALENDAR
