BEGIN:VCALENDAR
VERSION:2.0
PRODID:-//www.dsala.org//NONSGML kigkonsult.se iCalcreator 2.30.10//
CALSCALE:GREGORIAN
METHOD:PUBLISH
UID:26d0404a-8dde-4c63-8113-9bb8754886a9
X-WR-CALDESC:<b>Teen Social Club</b>\n\nJoin us the third Saturday of every
  month for an opportunity to interact with other pre-teens/teens\, form fr
 iendships\, and partake in social outings in the community. These events a
 re for individuals ages 11-17. Participants must be accompanied by an adul
 t and meet the group at destination. \n\nLet’s meet-up at the LA Discovery
  Cube\, \nexplore ways to be more “Green” AND race some hot wheels!  \nUse
  the Promo Code HotWheelsMar19LA online OR at the box office to redeem the
  special \n“Buy 1 Adult full price ticket & get 1 Kid admission for FREE!
 \nOur Group will meet-up at the Front Gate at 3pm. \nFeel free to arrive B
 EFORE our meet-up time to EXPLORE the Cube & Bring a Snack!\n\nDSALA wishe
 s to provide a pleasant experience for all participants. Therefore\, a par
 ent or guardian must be present for the duration of each activity.\n
X-WR-RELCALID:a3f1db24cb95a16cbe6241e76c16d78a
X-WR-TIMEZONE:America/Los_Angeles
BEGIN:VTIMEZONE
TZID:America/Los_Angeles
BEGIN:STANDARD
TZNAME:PST
DTSTART:20181104T020000
TZOFFSETFROM:-0700
TZOFFSETTO:-0800
RDATE:20191103T020000
END:STANDARD
BEGIN:DAYLIGHT
TZNAME:PDT
DTSTART:20190310T020000
TZOFFSETFROM:-0800
TZOFFSETTO:-0700
RDATE:20200308T020000
END:DAYLIGHT
END:VTIMEZONE
BEGIN:VEVENT
UID:f0811c01-c788-4ca0-8408-7055d8eb1c57
DTSTAMP:20260419T132851Z
DESCRIPTION:<b>Teen Social Club</b>\n\nJoin us the third Saturday of every 
 month for an opportunity to interact with other pre-teens/teens\, form fri
 endships\, and partake in social outings in the community. These events ar
 e for individuals ages 11-17. Participants must be accompanied by an adult
  and meet the group at destination. \n\nLet’s meet-up at the LA Discovery 
 Cube\, \nexplore ways to be more “Green” AND race some hot wheels!  \nUse 
 the Promo Code HotWheelsMar19LA online OR at the box office to redeem the 
 special \n“Buy 1 Adult full price ticket & get 1 Kid admission for FREE!\n
 Our Group will meet-up at the Front Gate at 3pm. \nFeel free to arrive BEF
 ORE our meet-up time to EXPLORE the Cube & Bring a Snack!\n\nDSALA wishes 
 to provide a pleasant experience for all participants. Therefore\, a paren
 t or guardian must be present for the duration of each activity.\n
DTSTART;TZID=America/Los_Angeles:20190316T150000
DTEND;TZID=America/Los_Angeles:20190316T170000
LOCATION:Discovery Cube 11800 Foothill Blvd\, Sylmar\, CA 91342
SUMMARY:Teen Social Club
END:VEVENT
END:VCALENDAR
